BEGIN:VCALENDAR
VERSION:2.0
PRODID:-//Charm City Run - ECPv6.15.20//NONSGML v1.0//EN
CALSCALE:GREGORIAN
METHOD:PUBLISH
X-ORIGINAL-URL:https://www.charmcityrun.com
X-WR-CALDESC:Events for Charm City Run
REFRESH-INTERVAL;VALUE=DURATION:PT1H
X-Robots-Tag:noindex
X-PUBLISHED-TTL:PT1H
BEGIN:VTIMEZONE
TZID:America/New_York
BEGIN:DAYLIGHT
TZOFFSETFROM:-0500
TZOFFSETTO:-0400
TZNAME:EDT
DTSTART:20230312T070000
END:DAYLIGHT
BEGIN:STANDARD
TZOFFSETFROM:-0400
TZOFFSETTO:-0500
TZNAME:EST
DTSTART:20231105T060000
END:STANDARD
BEGIN:DAYLIGHT
TZOFFSETFROM:-0500
TZOFFSETTO:-0400
TZNAME:EDT
DTSTART:20240310T070000
END:DAYLIGHT
BEGIN:STANDARD
TZOFFSETFROM:-0400
TZOFFSETTO:-0500
TZNAME:EST
DTSTART:20241103T060000
END:STANDARD
BEGIN:DAYLIGHT
TZOFFSETFROM:-0500
TZOFFSETTO:-0400
TZNAME:EDT
DTSTART:20250309T070000
END:DAYLIGHT
BEGIN:STANDARD
TZOFFSETFROM:-0400
TZOFFSETTO:-0500
TZNAME:EST
DTSTART:20251102T060000
END:STANDARD
END:VTIMEZONE
BEGIN:VEVENT
DTSTART;TZID=America/New_York:20240429T083000
DTEND;TZID=America/New_York:20240429T103000
DTSTAMP:20260419T084413
CREATED:20230415T183135Z
LAST-MODIFIED:20240420T143110Z
UID:10001934-1714379400-1714386600@www.charmcityrun.com
SUMMARY:Harford Day 5K
DESCRIPTION:We are excited to announce the 3rd Annual Harford Day School 5K which will take place on Monday\, May 8th. We hope you will join us and run or walk the cart path at Maryland Golf and Country Clubs in Bel Air. Professionally managed by Charm City Run\, your 5K trek will take you through the beautiful golf course. Entry fee includes a T-shirt\, a runners’ bib\, chip timing\, as well as water\, fruit\, and snacks before and after the race. There is also a 1 Mile Fun Walk\, allowing athletes of all levels to participate and will also receive all of the above items. \n$100 Charm City Run Gift Card to Top Male and Top Female Finisher Overall \nTo learn more and sign up click the Register button.
URL:https://www.charmcityrun.com/event/harford-day-5k/
LOCATION:Maryland Golf and Country Clubs\, 1335 E Macphail Rd\, Bel Air\, MD\, 21015\, United States
CATEGORIES:Charm City Run Managed Races
ATTACH;FMTTYPE=image/jpeg:https://www.charmcityrun.com/wp-content/uploads/2023/04/raceBanner-PZkOJbJy-bH6cWM-3.jpg
GEO:39.5249941;-76.3053804
X-APPLE-STRUCTURED-LOCATION;VALUE=URI;X-ADDRESS=Maryland Golf and Country Clubs 1335 E Macphail Rd Bel Air MD 21015 United States;X-APPLE-RADIUS=500;X-TITLE=1335 E Macphail Rd:geo:-76.3053804,39.5249941
END:VEVENT
END:VCALENDAR