BEGIN:VCALENDAR
VERSION:2.0
PRODID:-//Charm City Run - ECPv6.15.20//NONSGML v1.0//EN
CALSCALE:GREGORIAN
METHOD:PUBLISH
X-WR-CALNAME:Charm City Run
X-ORIGINAL-URL:https://www.charmcityrun.com
X-WR-CALDESC:Events for Charm City Run
REFRESH-INTERVAL;VALUE=DURATION:PT1H
X-Robots-Tag:noindex
X-PUBLISHED-TTL:PT1H
BEGIN:VTIMEZONE
TZID:America/New_York
BEGIN:DAYLIGHT
TZOFFSETFROM:-0500
TZOFFSETTO:-0400
TZNAME:EDT
DTSTART:20220313T070000
END:DAYLIGHT
BEGIN:STANDARD
TZOFFSETFROM:-0400
TZOFFSETTO:-0500
TZNAME:EST
DTSTART:20221106T060000
END:STANDARD
BEGIN:DAYLIGHT
TZOFFSETFROM:-0500
TZOFFSETTO:-0400
TZNAME:EDT
DTSTART:20230312T070000
END:DAYLIGHT
BEGIN:STANDARD
TZOFFSETFROM:-0400
TZOFFSETTO:-0500
TZNAME:EST
DTSTART:20231105T060000
END:STANDARD
BEGIN:DAYLIGHT
TZOFFSETFROM:-0500
TZOFFSETTO:-0400
TZNAME:EDT
DTSTART:20240310T070000
END:DAYLIGHT
BEGIN:STANDARD
TZOFFSETFROM:-0400
TZOFFSETTO:-0500
TZNAME:EST
DTSTART:20241103T060000
END:STANDARD
END:VTIMEZONE
BEGIN:VEVENT
DTSTART;TZID=America/New_York:20230925T060000
DTEND;TZID=America/New_York:20230925T070000
DTSTAMP:20260420T053926
CREATED:20230918T190234Z
LAST-MODIFIED:20230918T194703Z
UID:2832-1695621600-1695625200@www.charmcityrun.com
SUMMARY:Run for Her
DESCRIPTION:Join Charm City Run Annapolis on Monday\, September 25 at 6AM for a Run for Her dedicated to Eliza Fletcher\, Rachel Morin\, and all the women who went out for a run and did not come home. We invite all women walkers\, and runners to join us. Men\, we invite you too\, all that support us\, run with us. We cannot be afraid to run\, but we do need to be aware of how\, when and where we run. Come and make a friend(s)\, make a difference and take a stand.  \nWe will offer a 1-mile walk or a 3-mile run. Please wear your reflective gear. Please RSVP and we are asking for a $5 donation that we will donate to our local Girls on the Run chapter.
URL:https://www.charmcityrun.com/event/run-for-her-2/
LOCATION:Charm City Run Annapolis\, 87 Forest Plaza\, Annapolis\, MD\, 21401\, United States
CATEGORIES:Store Events
ATTACH;FMTTYPE=image/jpeg:https://www.charmcityrun.com/wp-content/uploads/2023/09/MCM_4509.jpg
GEO:38.9805876;-76.539379
X-APPLE-STRUCTURED-LOCATION;VALUE=URI;X-ADDRESS=Charm City Run Annapolis 87 Forest Plaza Annapolis MD 21401 United States;X-APPLE-RADIUS=500;X-TITLE=87 Forest Plaza:geo:-76.539379,38.9805876
END:VEVENT
END:VCALENDAR