BEGIN:VCALENDAR
VERSION:2.0
PRODID:-//Charm City Run - ECPv6.15.20//NONSGML v1.0//EN
CALSCALE:GREGORIAN
METHOD:PUBLISH
X-WR-CALNAME:Charm City Run
X-ORIGINAL-URL:https://www.charmcityrun.com
X-WR-CALDESC:Events for Charm City Run
REFRESH-INTERVAL;VALUE=DURATION:PT1H
X-Robots-Tag:noindex
X-PUBLISHED-TTL:PT1H
BEGIN:VTIMEZONE
TZID:America/New_York
BEGIN:DAYLIGHT
TZOFFSETFROM:-0500
TZOFFSETTO:-0400
TZNAME:EDT
DTSTART:20240310T070000
END:DAYLIGHT
BEGIN:STANDARD
TZOFFSETFROM:-0400
TZOFFSETTO:-0500
TZNAME:EST
DTSTART:20241103T060000
END:STANDARD
BEGIN:DAYLIGHT
TZOFFSETFROM:-0500
TZOFFSETTO:-0400
TZNAME:EDT
DTSTART:20250309T070000
END:DAYLIGHT
BEGIN:STANDARD
TZOFFSETFROM:-0400
TZOFFSETTO:-0500
TZNAME:EST
DTSTART:20251102T060000
END:STANDARD
BEGIN:DAYLIGHT
TZOFFSETFROM:-0500
TZOFFSETTO:-0400
TZNAME:EDT
DTSTART:20260308T070000
END:DAYLIGHT
BEGIN:STANDARD
TZOFFSETFROM:-0400
TZOFFSETTO:-0500
TZNAME:EST
DTSTART:20261101T060000
END:STANDARD
END:VTIMEZONE
BEGIN:VEVENT
DTSTART;TZID=America/New_York:20250308T083000
DTEND;TZID=America/New_York:20250308T093000
DTSTAMP:20260420T040939
CREATED:20250215T182520Z
LAST-MODIFIED:20250215T182520Z
UID:5228-1741422600-1741426200@www.charmcityrun.com
SUMMARY:Mat Class with Club Pilates
DESCRIPTION:Join us at the store as we welcome Club Pilates to lead a 15 person mat class! This is a perfect morning workout to kickstart your day! Please be sure to bring a yoga mat and sign up online as space is limited.
URL:https://www.charmcityrun.com/event/mat-class-with-club-pilates/
LOCATION:Charm City Run Fells Point\, 1500 Thames Street\, Baltimore\, MD\, 21231\, United States
CATEGORIES:Store Events
GEO:39.2805055;-76.5956538
X-APPLE-STRUCTURED-LOCATION;VALUE=URI;X-ADDRESS=Charm City Run Fells Point 1500 Thames Street Baltimore MD 21231 United States;X-APPLE-RADIUS=500;X-TITLE=1500 Thames Street:geo:-76.5956538,39.2805055
END:VEVENT
END:VCALENDAR